BEGIN:VCALENDAR
VERSION:2.0
PRODID:-//Villa Fernandes - ECPv6.7.1//NONSGML v1.0//EN
CALSCALE:GREGORIAN
METHOD:PUBLISH
X-WR-CALNAME:Villa Fernandes
X-ORIGINAL-URL:https://villafernandes.it/en
X-WR-CALDESC:Events for Villa Fernandes
REFRESH-INTERVAL;VALUE=DURATION:PT1H
X-Robots-Tag:noindex
X-PUBLISHED-TTL:PT1H
BEGIN:VTIMEZONE
TZID:Europe/Rome
BEGIN:DAYLIGHT
TZOFFSETFROM:+0100
TZOFFSETTO:+0200
TZNAME:CEST
DTSTART:20250330T010000
END:DAYLIGHT
BEGIN:STANDARD
TZOFFSETFROM:+0200
TZOFFSETTO:+0100
TZNAME:CET
DTSTART:20251026T010000
END:STANDARD
END:VTIMEZONE
BEGIN:VEVENT
DTSTART;TZID=Europe/Rome:20250508T173000
DTEND;TZID=Europe/Rome:20250508T190000
DTSTAMP:20260422T114859
CREATED:20250505T105804Z
LAST-MODIFIED:20250505T123326Z
UID:1847-1746725400-1746730800@villafernandes.it
SUMMARY:Presentazione libri: Una gravidanza speciale: storia di una magica attesa e Tienimi per mano
DESCRIPTION:Festival dello Sviluppo Sostenibile 2025\, Villa Fernandes sarà uno dei luoghi protagonisti di questo evento nazionale! In collaborazione con i nostri partner\, vi aspettiamo per una serie di appuntamenti imperdibili che spaziano tra cultura\, ambiente\, innovazione e inclusione.\n\n\n\nPrimo appuntamento:\n\n\n Giovedì 8 maggio\n Dalle 17:30 alle 19:00\n Villa Fernandes\, Portici\n\n\n Presentazione dei libri:\n– Una gravidanza speciale:storia di una magica attesa\n– Tienimi per mano\n\n\n A cura di Marya Durni\, un incontro toccante che affronta le sfide e le esperienze delle madri con disabilità.\nLa comunità si forma quando impariamo a guardare la nostra realtà con gli occhi degli altri \n\n\nSarà con noi per la traduzione in Lingua dei Segni Italiana la cara amica Marianna Veronica Gaglione\n\n\n Un’opportunità per riflettere insieme su inclusione\, maternità e resilienza.
URL:https://villafernandes.it/en/evento/presentazione-libri/
LOCATION:Villa Fernandes\, Via Diaz 144\, Portici (NA)\, 80055
CATEGORIES:Presentazione del libro
ATTACH;FMTTYPE=image/png:https://villafernandes.it/wp-content/uploads/2025/05/2.png
END:VEVENT
END:VCALENDAR