BEGIN:VCALENDAR
VERSION:2.0
PRODID:-//Villa Fernandes - ECPv6.7.1//NONSGML v1.0//EN
CALSCALE:GREGORIAN
METHOD:PUBLISH
X-WR-CALNAME:Villa Fernandes
X-ORIGINAL-URL:https://villafernandes.it/en
X-WR-CALDESC:Events for Villa Fernandes
REFRESH-INTERVAL;VALUE=DURATION:PT1H
X-Robots-Tag:noindex
X-PUBLISHED-TTL:PT1H
BEGIN:VTIMEZONE
TZID:Europe/Rome
BEGIN:DAYLIGHT
TZOFFSETFROM:+0100
TZOFFSETTO:+0200
TZNAME:CEST
DTSTART:20250330T010000
END:DAYLIGHT
BEGIN:STANDARD
TZOFFSETFROM:+0200
TZOFFSETTO:+0100
TZNAME:CET
DTSTART:20251026T010000
END:STANDARD
END:VTIMEZONE
BEGIN:VEVENT
DTSTART;TZID=Europe/Rome:20250320T090000
DTEND;TZID=Europe/Rome:20250320T200000
DTSTAMP:20260420T110002
CREATED:20250318T143940Z
LAST-MODIFIED:20250318T143940Z
UID:1796-1742461200-1742500800@villafernandes.it
SUMMARY:Mostra fotografica "Dove la terra finisce\, inizia il mare"
DESCRIPTION:✨ NUOVO APPUNTAMENTO IMPERDIBILE! ✨ \n️ Giovedì 20 Marzo alle 19:00\n In Villa Fernandes al Dabliu Bistrot \nSiamo felici di invitarvi alla mostra fotografica di Antonio Sarno\, a cura di Culturadice e Sara Libertino!  \n“Dove la terra finisce\, inizia il mare”  \nUn viaggio visivo che esplora i confini tra la terra e il mare  \nNon perdere questa straordinaria occasione di immergerti in un mondo di emozioni e arte! ✨ \nVia Armando Diaz 144\, Portici (Na)
URL:https://villafernandes.it/en/evento/mostra-fotografica-dove-la-terra-finisce-inizia-il-mare/
LOCATION:Villa Fernandes\, Via Diaz 144\, Portici (NA)\, 80055
CATEGORIES:Mostra
ATTACH;FMTTYPE=image/png:https://villafernandes.it/wp-content/uploads/2025/03/20sto.png
END:VEVENT
END:VCALENDAR