BEGIN:VCALENDAR
VERSION:2.0
PRODID:-//Villa Fernandes - ECPv6.7.1//NONSGML v1.0//EN
CALSCALE:GREGORIAN
METHOD:PUBLISH
X-WR-CALNAME:Villa Fernandes
X-ORIGINAL-URL:https://villafernandes.it/en
X-WR-CALDESC:Events for Villa Fernandes
REFRESH-INTERVAL;VALUE=DURATION:PT1H
X-Robots-Tag:noindex
X-PUBLISHED-TTL:PT1H
BEGIN:VTIMEZONE
TZID:Europe/Rome
BEGIN:DAYLIGHT
TZOFFSETFROM:+0100
TZOFFSETTO:+0200
TZNAME:CEST
DTSTART:20250330T010000
END:DAYLIGHT
BEGIN:STANDARD
TZOFFSETFROM:+0200
TZOFFSETTO:+0100
TZNAME:CET
DTSTART:20251026T010000
END:STANDARD
END:VTIMEZONE
BEGIN:VEVENT
DTSTART;TZID=Europe/Rome:20250528T170000
DTEND;TZID=Europe/Rome:20250528T180000
DTSTAMP:20260420T105416
CREATED:20250611T094340Z
LAST-MODIFIED:20250611T094340Z
UID:2793-1748451600-1748455200@villafernandes.it
SUMMARY:Incontro... a suon di poesia
DESCRIPTION:Nuovo appuntamento in Villa Fernandes  \nMercoledì 28 Maggio dalle 17\,00 alle 18\,15  \nIncontro …. a suon di poesia  \nPorta una poesia e condividila con gli altri ! \nVi aspettiamo in Villa Fernandes !
URL:https://villafernandes.it/en/evento/incontro-a-suon-di-poesia/
LOCATION:Villa Fernandes\, Via Diaz 144\, Portici (NA)\, 80055
CATEGORIES:laboratorio
ATTACH;FMTTYPE=image/png:https://villafernandes.it/wp-content/uploads/2025/06/28-mag-poesia.png
END:VEVENT
END:VCALENDAR