BEGIN:VCALENDAR
VERSION:2.0
PRODID:-//Villa Fernandes - ECPv6.7.1//NONSGML v1.0//EN
CALSCALE:GREGORIAN
METHOD:PUBLISH
X-WR-CALNAME:Villa Fernandes
X-ORIGINAL-URL:https://villafernandes.it/en
X-WR-CALDESC:Events for Villa Fernandes
REFRESH-INTERVAL;VALUE=DURATION:PT1H
X-Robots-Tag:noindex
X-PUBLISHED-TTL:PT1H
BEGIN:VTIMEZONE
TZID:Europe/Rome
BEGIN:DAYLIGHT
TZOFFSETFROM:+0100
TZOFFSETTO:+0200
TZNAME:CEST
DTSTART:20250330T010000
END:DAYLIGHT
BEGIN:STANDARD
TZOFFSETFROM:+0200
TZOFFSETTO:+0100
TZNAME:CET
DTSTART:20251026T010000
END:STANDARD
END:VTIMEZONE
BEGIN:VEVENT
DTSTART;TZID=Europe/Rome:20250307T180000
DTEND;TZID=Europe/Rome:20250307T180000
DTSTAMP:20260420T120140
CREATED:20250303T145735Z
LAST-MODIFIED:20250304T091804Z
UID:1680-1741370400-1741370400@villafernandes.it
SUMMARY:Il daimon Comico.Filosofia e storia di Pulcinella\,patrimonio dell'umanità
DESCRIPTION:Nuovo appuntamento in Villa Fernandes \n⏰Venerdì 7 Marzo 2025 alle 18\,00⏰ \nNell’ambito della rassegna “Partenopea”\nIncontro con l’autore Nino Daniele per la presentazione del libro: \n“Il daimon comico. Filosofia e storia di Pulcinella\, patrimonio dell’umanità” \nIl saggio di Nino Daniele indaga sui molteplici significati filosofici ed antropologici di Pulcinella\, per la quale è stata avanzata la richiesta di riconoscimento da parte dell’Unesco di “Patrimonio Culturale Immateriale dell’Umanità”. Pulcinella è una metafora dell’animo umano e delle sue tradizioni storiche e pagane. Non è la fuga dalla realtà perché essa ci è già sfuggita. \nTimer a cura di alcuni alunni dell’istituto scolastico “Da Vinci-Comes”
URL:https://villafernandes.it/en/evento/il-daimon-comico-filosofia-e-storia-di-pulcinellapatrimonio-dellumanita/
LOCATION:Villa Fernandes\, Via Diaz 144\, Portici (NA)\, 80055
CATEGORIES:Presentazione del libro
ATTACH;FMTTYPE=image/png:https://villafernandes.it/wp-content/uploads/2025/03/Gianniini-Ed.png
END:VEVENT
END:VCALENDAR