BEGIN:VCALENDAR
VERSION:2.0
PRODID:-//Villa Fernandes - ECPv6.7.1//NONSGML v1.0//EN
CALSCALE:GREGORIAN
METHOD:PUBLISH
X-WR-CALNAME:Villa Fernandes
X-ORIGINAL-URL:https://villafernandes.it/en
X-WR-CALDESC:Events for Villa Fernandes
REFRESH-INTERVAL;VALUE=DURATION:PT1H
X-Robots-Tag:noindex
X-PUBLISHED-TTL:PT1H
BEGIN:VTIMEZONE
TZID:Europe/Rome
BEGIN:DAYLIGHT
TZOFFSETFROM:+0100
TZOFFSETTO:+0200
TZNAME:CEST
DTSTART:20240331T010000
END:DAYLIGHT
BEGIN:STANDARD
TZOFFSETFROM:+0200
TZOFFSETTO:+0100
TZNAME:CET
DTSTART:20241027T010000
END:STANDARD
END:VTIMEZONE
BEGIN:VEVENT
DTSTART;TZID=Europe/Rome:20241030T160000
DTEND;TZID=Europe/Rome:20241030T190000
DTSTAMP:20260421T141330
CREATED:20241029T085150Z
LAST-MODIFIED:20241029T085150Z
UID:1488-1730304000-1730314800@villafernandes.it
SUMMARY:GIOCARE É COSA SERIA
DESCRIPTION:Nuovo appuntamento a Villa Fernandes \n\n\nMercoledì 30 Ottobre dalle 16\,00 alle 19\,00\nLo sportello di inclusione scolastica e l’I.C. DON BOSCO MELLONI PORTICI \n\n\nPresentano:\n\n\nGIOCARE È COSA SERIA:\n\n\nL’Importanza del Gioco nello Sviluppo\n\n\nÈ un’iniziativa nata nell’ambito del Modello Educreando Binazionale\, nella quale le scuole coinvolte sviluppano un tema che interessa bambini e adolescenti\,attraverso modalità che consentono la condivisione di problematiche comuni a tutti loro: il gioco\, “un sapere non pensato”\, che non si traduce in parole\, è un sapere dell’inconscio che riunisce esperienze e concetti che procedono dalla vita di relazioni.\n\n\nCosì inteso il gioco diventa un’esperienza evolutiva fondamentale per entrare nel mondo.\n\n\nGratuità e coinvolgimento sono due condizioni che implicano motivazione\, protagonismo\, sviluppo di competenze cognitive e psicosociali .\n\n\nTale tematica quest’anno sarà il fil rouge della progettualità inclusiva e innovativa messa in atto presso l’I.C. 1° Don Bosco Melloni di Portici. \n\n\nIl convegno è pensato come un momento di informazione\, condivisione\, confronto e arricchimento reciproco tra tutti i partecipanti
URL:https://villafernandes.it/en/evento/giocare-e-cosa-seria/
LOCATION:Villa Fernandes\, Via Diaz 144\, Portici (NA)\, 80055
CATEGORIES:CONVEGNO
ATTACH;FMTTYPE=image/png:https://villafernandes.it/wp-content/uploads/2024/10/2_storia-28.png
END:VEVENT
END:VCALENDAR