BEGIN:VCALENDAR
VERSION:2.0
PRODID:-//Villa Fernandes - ECPv6.7.1//NONSGML v1.0//EN
CALSCALE:GREGORIAN
METHOD:PUBLISH
X-WR-CALNAME:Villa Fernandes
X-ORIGINAL-URL:https://villafernandes.it/en
X-WR-CALDESC:Events for Villa Fernandes
REFRESH-INTERVAL;VALUE=DURATION:PT1H
X-Robots-Tag:noindex
X-PUBLISHED-TTL:PT1H
BEGIN:VTIMEZONE
TZID:Europe/Rome
BEGIN:DAYLIGHT
TZOFFSETFROM:+0100
TZOFFSETTO:+0200
TZNAME:CEST
DTSTART:20250330T010000
END:DAYLIGHT
BEGIN:STANDARD
TZOFFSETFROM:+0200
TZOFFSETTO:+0100
TZNAME:CET
DTSTART:20251026T010000
END:STANDARD
END:VTIMEZONE
BEGIN:VEVENT
DTSTART;TZID=Europe/Rome:20250509T090000
DTEND;TZID=Europe/Rome:20250509T130000
DTSTAMP:20260421T141623
CREATED:20250505T110019Z
LAST-MODIFIED:20250505T123003Z
UID:1850-1746781200-1746795600@villafernandes.it
SUMMARY:Convegno sul benessere dello studente a scuola e sull'inclusione.
DESCRIPTION:Nuovo appuntamento in Villa Fernandes \n\n\nConvegno sul benessere dello studente a scuola e sull’inclusione.\n\n\nVenerdì 9 Maggio dalle 9:00 alle 13:00\n\n\nL’associazione Politiche Sociali e Progetti aderente alla Rete di Villa Fernandes\, attraverso lo Sportello Inclusione Scolastica\, continua il suo percorso di stimolo della Comunità educante al confronto sulle tematiche dell’inclusione scolastica e sociale. \n\n\nTra i relatori ci sarà:\n\n\nChiara Piccolo\, membro della Commissione europea per il “Benessere e la salute mentale a scuola” e che parlerà proprio delle ultime “Linee guida europee sul benessere e salute mentale a scuola. \n\n\nPietro Buonocore parlerà dell’Index per l’inclusione come strumento di autovalutazione del grado di inclusività della scuola\n\n\nCesare Moreno\, presidente di Maestri di strada\, illustrerà le azioni messe in campo dalla Comunità educante di Napoli est\n\n\nLucia Porzio\, Psicologa dottoranda\, tratterà il tema della collaborazione tra docenti e psicologo scolastico al fine di rafforzare la collaborazione tra gli adulti e migliorare così il clima educativo.\n\n\nSono concetti molto concreti che si esplicitano attraverso gli undici indicatori delle Linee guida europee per il Benessere a scuola e attraverso gli innumerevoli indicatori proposti dall’Index per l’inclusione di Ainscow e Booth. \n\n\nInclusione e Benessere\, devono essere al centro della progettazione educativa di ogni scuola/Comunità educante al fine di favorire l’apprendimento\, la partecipazione e la crescita equilibrata di tutti\, nessuno escluso.\n\n\nIl convegno vuole rappresentare una proposta culturale semplice e allo stesso tempo necessaria per riflettere su una scuola e su una Comunità educante protagoniste nei Patti educativi e promotrici della crescita culturale e umana della Società.\n\n\n#convegno #villafernandes #inclusione
URL:https://villafernandes.it/en/evento/convegno/
LOCATION:Villa Fernandes\, Via Diaz 144\, Portici (NA)\, 80055
CATEGORIES:CONVEGNO
ATTACH;FMTTYPE=image/png:https://villafernandes.it/wp-content/uploads/2025/05/1.1-2.png
END:VEVENT
END:VCALENDAR